BEGIN:VCALENDAR
VERSION:2.0
PRODID:-//Arkaeos - ECPv6.5.0//NONSGML v1.0//EN
CALSCALE:GREGORIAN
METHOD:PUBLISH
X-ORIGINAL-URL:https://arkaeos.fr
X-WR-CALDESC:évènements pour Arkaeos
REFRESH-INTERVAL;VALUE=DURATION:PT1H
X-Robots-Tag:noindex
X-PUBLISHED-TTL:PT1H
BEGIN:VTIMEZONE
TZID:UTC
BEGIN:STANDARD
TZOFFSETFROM:+0000
TZOFFSETTO:+0000
TZNAME:UTC
DTSTART:20240101T000000
END:STANDARD
END:VTIMEZONE
BEGIN:VEVENT
DTSTART;TZID=UTC:20240329T080000
DTEND;TZID=UTC:20240401T170000
DTSTAMP:20260424T083202
CREATED:20200428T140523Z
LAST-MODIFIED:20240223T173714Z
UID:1215-1711699200-1711990800@arkaeos.fr
SUMMARY:Gyptis au festival Escale à Sète
DESCRIPTION:Gyptis participera cette année au festival Escale à Sète\, du vendredi 29 mars au lundi 1er avril 2024. Nous sortirons parader tous les jours avec les autres vieux-gréements\, et présenterons le bateau lors d’une conférence. C’est l’occasion de profiter de ce festival de l’intérieur\, de rencontrer les différents équipages et de promouvoir Gyptis le temps de ce week-end prolongé. Nous ferons le trajet depuis Balaruc jusqu’à Sète à la rame et à la voile si le vent le permet.
URL:https://arkaeos.fr/event/gyptis-au-festival-escale-a-sete/
LOCATION:Escale à sète\, 20 Rue Martin\,\, Sète\, 34200\, France
CATEGORIES:Festival,Gyptis
ATTACH;FMTTYPE=image/jpeg:https://arkaeos.fr/wp-content/uploads/2020/05/Arkaeos_Post_Gyptis-escale-a-Sete.jpg
END:VEVENT
BEGIN:VEVENT
DTSTART;TZID=UTC:20240318T080000
DTEND;TZID=UTC:20240323T170000
DTSTAMP:20260424T083202
CREATED:20240208T000433Z
LAST-MODIFIED:20240208T000912Z
UID:33723-1710748800-1711213200@arkaeos.fr
SUMMARY:Exposition de Gyptis aux thermes de Balaruc
DESCRIPTION:Gyptis sera exposée devant les thermes de Balaruc-les-Bains du 18 au 23 mars 2024. Plusieurs conférences porteront sur la vie autour de l’étang de Thau\, le thermalisme et la santé pendant la période antique et le projet de reconstitution de Gyptis. Des bénévoles sont bienvenus pour les opérations d’installation de Gyptis\, et la participation aux conférences.
URL:https://arkaeos.fr/event/exposition-de-gyptis-aux-thermes-de-balaruc-2024/
LOCATION:Thermes de Balaruc\, 1 Rue du Mont Saint-Clair\, Balaruc-les-Bains\, 34540\, France
CATEGORIES:Exposition,Gyptis
ATTACH;FMTTYPE=image/jpeg:https://arkaeos.fr/wp-content/uploads/2024/02/Arkaeos_Event_Balaruc.jpg
END:VEVENT
BEGIN:VEVENT
DTSTART;VALUE=DATE:20240311
DTEND;VALUE=DATE:20240517
DTSTAMP:20260424T083202
CREATED:20240208T114127Z
LAST-MODIFIED:20240208T114127Z
UID:33755-1710115200-1715903999@arkaeos.fr
SUMMARY:Chantier de réparation de Gyptis au CNRN
DESCRIPTION:Ce chantier se déroulera sur la panne du Club Nautique de Rive Neuve\, au Vieux-Port. Il permettra de reprendre le gréement de Gyptis\, et notamment de tanner la voile. C’est l’occasion de travailler les nœuds\, épissures\, etc. Les curieux\, groupes et scolaires seront également bienvenus sur cette période dans le cadre des médiations prévues pour les Olympiades culturelles.
URL:https://arkaeos.fr/event/chantier-de-reparation-de-gyptis-au-cnrn/
LOCATION:Club Nautique de Rive Neuve\, Quai de Rive neuve\, Marseille\, 13001\, France
CATEGORIES:Gyptis
ATTACH;FMTTYPE=image/jpeg:https://arkaeos.fr/wp-content/uploads/2024/02/Arkaeos_Event_Vieux-port.jpg
END:VEVENT
BEGIN:VEVENT
DTSTART;VALUE=DATE:20240508
DTEND;VALUE=DATE:20240509
DTSTAMP:20260424T083202
CREATED:20240208T121255Z
LAST-MODIFIED:20240208T121435Z
UID:33782-1715126400-1715212799@arkaeos.fr
SUMMARY:Parade pour l’arrivée à Marseille de la flamme olympique
DESCRIPTION:Gyptis fera partie de la parade accompagnant le Belem pour l’arrivée de la flamme olympique à Marseille le 8 mai 2024\, à l’occasion des Jeux Olympiques et Paralympiques.
URL:https://arkaeos.fr/event/parade-pour-larrivee-a-marseille-de-la-flamme-olympique/
LOCATION:Vieux-port de Marseille\, Vieux port de Marseille\, Marseille\, 13001\, France
CATEGORIES:Gyptis
ATTACH;FMTTYPE=image/jpeg:https://arkaeos.fr/wp-content/uploads/2024/02/Arkaeos_Event_Vieux-port-02.jpg
END:VEVENT
BEGIN:VEVENT
DTSTART;VALUE=DATE:20240219
DTEND;VALUE=DATE:20240319
DTSTAMP:20260424T083202
CREATED:20240208T105556Z
LAST-MODIFIED:20240208T121146Z
UID:33748-1708300800-1710806399@arkaeos.fr
SUMMARY:Chantier de réparation de Gyptis à la MMSH
DESCRIPTION:Ce chantier se déroulera devant les locaux de la MMSH\, sous tente\, et permettra d’effectuer le carénage\, de reprendre des ligatures\, etc.
URL:https://arkaeos.fr/event/chantier-de-reparation-de-gyptis-a-la-mmhn/
LOCATION:Maison méditerranéenne des sciences de l’Homme\, 5\, rue du Château de l’Horloge\, Aix-en-Provence\, 13097\, France
CATEGORIES:Gyptis
ATTACH;FMTTYPE=image/jpeg:https://arkaeos.fr/wp-content/uploads/2024/02/Arkaeos_Event_MMSH.jpg
END:VEVENT
BEGIN:VEVENT
DTSTART;VALUE=DATE:20240205
DTEND;VALUE=DATE:20240217
DTSTAMP:20260424T083202
CREATED:20240208T103743Z
LAST-MODIFIED:20240208T105845Z
UID:33735-1707091200-1708127999@arkaeos.fr
SUMMARY:Chantier de réparation de Gyptis à la Pointe Rouge
DESCRIPTION:Ce chantier se déroulera chez Carènes Services\, sous la responsabilité de Daniel Scotto. L’opération de réparation de la quille se fera a cette occasion.
URL:https://arkaeos.fr/event/chantier-de-reparation-de-gyptis-a-la-pointe-rouge/
LOCATION:Carènes services\, Aire de Carénage\, Port de la Pointe Rouge\,\, Marseille\, 13008\, France
CATEGORIES:Gyptis
ATTACH;FMTTYPE=image/jpeg:https://arkaeos.fr/wp-content/uploads/2024/02/Arkaeos_Event_Pointe-rouge.jpg
END:VEVENT
END:VCALENDAR